BEGIN:VCALENDAR
VERSION:2.0
PRODID:-//THOR | Ranges - ECPv6.6.4//NONSGML v1.0//EN
CALSCALE:GREGORIAN
METHOD:PUBLISH
X-WR-CALNAME:THOR | Ranges
X-ORIGINAL-URL:https://thorranges.com
X-WR-CALDESC:Events for THOR | Ranges
REFRESH-INTERVAL;VALUE=DURATION:PT1H
X-Robots-Tag:noindex
X-PUBLISHED-TTL:PT1H
BEGIN:VTIMEZONE
TZID:America/Chicago
BEGIN:DAYLIGHT
TZOFFSETFROM:-0600
TZOFFSETTO:-0500
TZNAME:CDT
DTSTART:20190310T080000
END:DAYLIGHT
BEGIN:STANDARD
TZOFFSETFROM:-0500
TZOFFSETTO:-0600
TZNAME:CST
DTSTART:20191103T070000
END:STANDARD
END:VTIMEZONE
BEGIN:VEVENT
DTSTART;TZID=America/Chicago:20190819T030000
DTEND;TZID=America/Chicago:20190819T120000
DTSTAMP:20260420T235041
CREATED:20190817T023457Z
LAST-MODIFIED:20190817T023457Z
UID:2128-1566183600-1566216000@thorranges.com
SUMMARY:Weekly Specials
DESCRIPTION:For the month of August we are hosting a push for our Gold and VIP packages. If you sign up at the Gold or VIP level\, or upgrade as a current member\, we will enter you into a drawing for a new Glock handgun. Also\, anyone who joins at the VIP level or upgrades to VIP will receive a free year membership to The Shooter’s Lounge ($250.00 value).
URL:https://thorranges.com/event/gold-and-vip-membership-drive-3-2/
END:VEVENT
BEGIN:VEVENT
DTSTART;TZID=America/Chicago:20190818T040000
DTEND;TZID=America/Chicago:20190818T120000
DTSTAMP:20260420T235041
CREATED:20190817T014652Z
LAST-MODIFIED:20190817T014652Z
UID:2114-1566100800-1566129600@thorranges.com
SUMMARY:Enhanced Concealed Carry
DESCRIPTION:Become familiar with Arkansas’ laws regarding the enhanced carry license. This includes where you may and may not carry. Be prepared for 6 hours of in class time and 2 hours on the range.
URL:https://thorranges.com/event/enhanced-concealed-carry/
END:VEVENT
BEGIN:VEVENT
DTSTART;TZID=America/Chicago:20190817T040000
DTEND;TZID=America/Chicago:20190817T090000
DTSTAMP:20260420T235041
CREATED:20250831T014652Z
LAST-MODIFIED:20250828T163436Z
UID:2098-1566014400-1566032400@thorranges.com
SUMMARY:Basic Concealed Carry
DESCRIPTION:Become familiar with Arkansas’ laws regarding concealed carry. Receive 1 year complimentary Individual Membership to the range.
URL:https://thorranges.com/event/basic-concealed-carry-4/
CATEGORIES:Basic Concealed Carry Class
END:VEVENT
BEGIN:VEVENT
DTSTART;TZID=America/Chicago:20190812T030000
DTEND;TZID=America/Chicago:20190812T120000
DTSTAMP:20260420T235041
CREATED:20190817T023358Z
LAST-MODIFIED:20190817T023358Z
UID:2125-1565578800-1565611200@thorranges.com
SUMMARY:Weekly Specials
DESCRIPTION:For the month of August we are hosting a push for our Gold and VIP packages. If you sign up at the Gold or VIP level\, or upgrade as a current member\, we will enter you into a drawing for a new Glock handgun. Also\, anyone who joins at the VIP level or upgrades to VIP will receive a free year membership to The Shooter’s Lounge ($250.00 value).
URL:https://thorranges.com/event/gold-and-vip-membership-drive-2/
END:VEVENT
BEGIN:VEVENT
DTSTART;TZID=America/Chicago:20190805T030000
DTEND;TZID=America/Chicago:20190805T120000
DTSTAMP:20260420T235041
CREATED:20190817T023430Z
LAST-MODIFIED:20190817T023430Z
UID:2124-1564974000-1565006400@thorranges.com
SUMMARY:Weekly Specials
DESCRIPTION:For the month of August we are hosting a push for our Gold and VIP packages. If you sign up at the Gold or VIP level\, or upgrade as a current member\, we will enter you into a drawing for a new Glock handgun. Also\, anyone who joins at the VIP level or upgrades to VIP will receive a free year membership to The Shooter’s Lounge ($250.00 value).
URL:https://thorranges.com/event/gold-and-vip-membership-drive/
END:VEVENT
BEGIN:VEVENT
DTSTART;TZID=America/Chicago:20190801T030000
DTEND;TZID=America/Chicago:20190801T120000
DTSTAMP:20260420T235041
CREATED:20190817T014652Z
LAST-MODIFIED:20190817T023337Z
UID:2116-1564628400-1564660800@thorranges.com
SUMMARY:Weekly Specials
DESCRIPTION:For the month of August we are hosting a push for our Gold and VIP packages. If you sign up at the Gold or VIP level\, or upgrade as a current member\, we will enter you into a drawing for a new Glock handgun. Also\, anyone who joins at the VIP level or upgrades to VIP will receive a free year membership to The Shooter’s Lounge ($250.00 value).
URL:https://thorranges.com/event/gold-and-vip-membership-drive-3/
END:VEVENT
END:VCALENDAR