BEGIN:VCALENDAR
VERSION:2.0
PRODID:-//THOR | Ranges - ECPv6.6.4//NONSGML v1.0//EN
CALSCALE:GREGORIAN
METHOD:PUBLISH
X-WR-CALNAME:THOR | Ranges
X-ORIGINAL-URL:https://thorranges.com
X-WR-CALDESC:Events for THOR | Ranges
REFRESH-INTERVAL;VALUE=DURATION:PT1H
X-Robots-Tag:noindex
X-PUBLISHED-TTL:PT1H
BEGIN:VTIMEZONE
TZID:America/Chicago
BEGIN:DAYLIGHT
TZOFFSETFROM:-0600
TZOFFSETTO:-0500
TZNAME:CDT
DTSTART:20190310T080000
END:DAYLIGHT
BEGIN:STANDARD
TZOFFSETFROM:-0500
TZOFFSETTO:-0600
TZNAME:CST
DTSTART:20191103T070000
END:STANDARD
END:VTIMEZONE
BEGIN:VEVENT
DTSTART;TZID=America/Chicago:20191106T030000
DTEND;TZID=America/Chicago:20191106T080000
DTSTAMP:20260420T011930
CREATED:20190823T203153Z
LAST-MODIFIED:20190823T203153Z
UID:2218-1573009200-1573027200@thorranges.com
SUMMARY:Basic Concealed Carry
DESCRIPTION:Become familiar with Arkansas’ laws regarding concealed carry. Receive 1 year complimentary Individual Membership to the range.
URL:https://thorranges.com/event/basic-concealed-carry-5-2-2-2-2-2-2-2-2-2-2-2-2-2-2-3/
END:VEVENT
BEGIN:VEVENT
DTSTART;TZID=America/Chicago:20191105T090000
DTEND;TZID=America/Chicago:20191105T103000
DTSTAMP:20260420T011930
CREATED:20190824T003505Z
LAST-MODIFIED:20190824T003505Z
UID:2281-1572944400-1572949800@thorranges.com
SUMMARY:Shooter's Grill
DESCRIPTION:We will be cooking THOR Angus burgers and hot dogs for The Shooter’s Lounge members. We will supply the meat\, we ask that you bring the buns.
URL:https://thorranges.com/event/shooters-grill-5-8/
END:VEVENT
BEGIN:VEVENT
DTSTART;TZID=America/Chicago:20191102T040000
DTEND;TZID=America/Chicago:20191102T090000
DTSTAMP:20260420T011930
CREATED:20190823T203132Z
LAST-MODIFIED:20190823T203132Z
UID:2217-1572667200-1572685200@thorranges.com
SUMMARY:Basic Concealed Carry
DESCRIPTION:Become familiar with Arkansas’ laws regarding concealed carry. Receive 1 year complimentary Individual Membership to the range.
URL:https://thorranges.com/event/basic-concealed-carry-5-2-2-2-2-2-2-2-2-2-2-2-2-2-2-2/
END:VEVENT
BEGIN:VEVENT
DTSTART;TZID=America/Chicago:20191030T040000
DTEND;TZID=America/Chicago:20191030T090000
DTSTAMP:20260420T011930
CREATED:20190823T201231Z
LAST-MODIFIED:20190823T201231Z
UID:2197-1572408000-1572426000@thorranges.com
SUMMARY:Basic Concealed Carry
DESCRIPTION:Become familiar with Arkansas’ laws regarding concealed carry. Receive 1 year complimentary Individual Membership to the range.
URL:https://thorranges.com/event/basic-concealed-carry-5-2-2-2-2-2-2-2-2-2-2-2-2-2-2/
END:VEVENT
BEGIN:VEVENT
DTSTART;TZID=America/Chicago:20191029T100000
DTEND;TZID=America/Chicago:20191029T113000
DTSTAMP:20260420T011930
CREATED:20190824T003440Z
LAST-MODIFIED:20190824T003440Z
UID:2282-1572343200-1572348600@thorranges.com
SUMMARY:Shooter's Grill
DESCRIPTION:We will be cooking THOR Angus burgers and hot dogs for The Shooter’s Lounge members. We will supply the meat\, we ask that you bring the buns.
URL:https://thorranges.com/event/shooters-grill-5-7/
END:VEVENT
BEGIN:VEVENT
DTSTART;TZID=America/Chicago:20191027T040000
DTEND;TZID=America/Chicago:20191027T120000
DTSTAMP:20260420T011930
CREATED:20190823T202111Z
LAST-MODIFIED:20190823T202111Z
UID:2207-1572148800-1572177600@thorranges.com
SUMMARY:Enhanced Concealed Carry
DESCRIPTION:Become familiar with Arkansas’ laws regarding the enhanced carry license. This includes where you may and may not carry. Be prepared for 6 hours of in class time and 2 hours on the range.
URL:https://thorranges.com/event/enhanced-concealed-carry-2-2-2-2-2/
END:VEVENT
BEGIN:VEVENT
DTSTART;TZID=America/Chicago:20191026T090000
DTEND;TZID=America/Chicago:20191026T110000
DTSTAMP:20260420T011930
CREATED:20190823T195113Z
LAST-MODIFIED:20190823T195113Z
UID:2156-1572080400-1572087600@thorranges.com
SUMMARY:Machine Gun Shoot
DESCRIPTION:Our weekly member machine gun shoot. We will post what firearm we will be using on our Facebook page https://www.facebook.com/thorranges/ \nWe have ammunition for purchase in our pro shop.
URL:https://thorranges.com/event/machine-gun-shoot-4-3-5/
END:VEVENT
BEGIN:VEVENT
DTSTART;TZID=America/Chicago:20191026T040000
DTEND;TZID=America/Chicago:20191026T090000
DTSTAMP:20260420T011930
CREATED:20190823T195220Z
LAST-MODIFIED:20190823T195220Z
UID:2162-1572062400-1572080400@thorranges.com
SUMMARY:Basic Concealed Carry (Range Membership Optional)
DESCRIPTION:Become familiar with Arkansas’ laws regarding concealed carry. This class will have a lower price for those not wanting a range membership. Please do not sign up online for this class if you are opting out of the membership. Please contact us with any questions.
URL:https://thorranges.com/event/basic-concealed-carry-range-membership-optional-3/
END:VEVENT
BEGIN:VEVENT
DTSTART;TZID=America/Chicago:20191023T040000
DTEND;TZID=America/Chicago:20191023T090000
DTSTAMP:20260420T011931
CREATED:20190823T201056Z
LAST-MODIFIED:20190823T201056Z
UID:2195-1571803200-1571821200@thorranges.com
SUMMARY:Basic Concealed Carry
DESCRIPTION:Become familiar with Arkansas’ laws regarding concealed carry. Receive 1 year complimentary Individual Membership to the range.
URL:https://thorranges.com/event/basic-concealed-carry-5-2-2-2-2-2-2-2-2-2-2-2-2-2/
END:VEVENT
BEGIN:VEVENT
DTSTART;TZID=America/Chicago:20191022T100000
DTEND;TZID=America/Chicago:20191022T113000
DTSTAMP:20260420T011931
CREATED:20190824T003424Z
LAST-MODIFIED:20190824T003424Z
UID:2283-1571738400-1571743800@thorranges.com
SUMMARY:Shooter's Grill
DESCRIPTION:We will be cooking THOR Angus burgers and hot dogs for The Shooter’s Lounge members. We will supply the meat\, we ask that you bring the buns.
URL:https://thorranges.com/event/shooters-grill-5-6/
END:VEVENT
BEGIN:VEVENT
DTSTART;TZID=America/Chicago:20191019T090000
DTEND;TZID=America/Chicago:20191019T110000
DTSTAMP:20260420T011931
CREATED:20190823T195049Z
LAST-MODIFIED:20190823T195049Z
UID:2155-1571475600-1571482800@thorranges.com
SUMMARY:Machine Gun Shoot
DESCRIPTION:Our weekly member machine gun shoot. We will post what firearm we will be using on our Facebook page https://www.facebook.com/thorranges/ \nWe have ammunition for purchase in our pro shop.
URL:https://thorranges.com/event/machine-gun-shoot-4-3-4/
END:VEVENT
BEGIN:VEVENT
DTSTART;TZID=America/Chicago:20191019T040000
DTEND;TZID=America/Chicago:20191019T090000
DTSTAMP:20260420T011931
CREATED:20190823T201030Z
LAST-MODIFIED:20190823T201030Z
UID:2193-1571457600-1571475600@thorranges.com
SUMMARY:Basic Concealed Carry
DESCRIPTION:Become familiar with Arkansas’ laws regarding concealed carry. Receive 1 year complimentary Individual Membership to the range.
URL:https://thorranges.com/event/basic-concealed-carry-5-2-2-2-2-2-2-2-2-2-2-2-2/
END:VEVENT
BEGIN:VEVENT
DTSTART;TZID=America/Chicago:20191016T040000
DTEND;TZID=America/Chicago:20191016T090000
DTSTAMP:20260420T011931
CREATED:20190823T201000Z
LAST-MODIFIED:20190823T201000Z
UID:2191-1571198400-1571216400@thorranges.com
SUMMARY:Basic Concealed Carry
DESCRIPTION:Become familiar with Arkansas’ laws regarding concealed carry. Receive 1 year complimentary Individual Membership to the range.
URL:https://thorranges.com/event/basic-concealed-carry-5-2-2-2-2-2-2-2-2-2-2-2/
END:VEVENT
BEGIN:VEVENT
DTSTART;TZID=America/Chicago:20191015T100000
DTEND;TZID=America/Chicago:20191015T113000
DTSTAMP:20260420T011931
CREATED:20190824T003404Z
LAST-MODIFIED:20190824T003404Z
UID:2284-1571133600-1571139000@thorranges.com
SUMMARY:Shooter's Grill
DESCRIPTION:We will be cooking THOR Angus burgers and hot dogs for The Shooter’s Lounge members. We will supply the meat\, we ask that you bring the buns.
URL:https://thorranges.com/event/shooters-grill-5-5/
END:VEVENT
BEGIN:VEVENT
DTSTART;TZID=America/Chicago:20191013T040000
DTEND;TZID=America/Chicago:20191013T120000
DTSTAMP:20260420T011931
CREATED:20190823T202033Z
LAST-MODIFIED:20190823T202033Z
UID:2205-1570939200-1570968000@thorranges.com
SUMMARY:Enhanced Concealed Carry
DESCRIPTION:Become familiar with Arkansas’ laws regarding the enhanced carry license. This includes where you may and may not carry. Be prepared for 6 hours of in class time and 2 hours on the range.
URL:https://thorranges.com/event/enhanced-concealed-carry-2-2-2-2/
END:VEVENT
BEGIN:VEVENT
DTSTART;TZID=America/Chicago:20191012T090000
DTEND;TZID=America/Chicago:20191012T110000
DTSTAMP:20260420T011931
CREATED:20190823T195007Z
LAST-MODIFIED:20190823T195007Z
UID:2154-1570870800-1570878000@thorranges.com
SUMMARY:Machine Gun Shoot
DESCRIPTION:Our weekly member machine gun shoot. We will post what firearm we will be using on our Facebook page https://www.facebook.com/thorranges/ \nWe have ammunition for purchase in our pro shop.
URL:https://thorranges.com/event/machine-gun-shoot-4-3-3/
END:VEVENT
BEGIN:VEVENT
DTSTART;TZID=America/Chicago:20191012T040000
DTEND;TZID=America/Chicago:20191012T090000
DTSTAMP:20260420T011931
CREATED:20190823T200935Z
LAST-MODIFIED:20190823T200935Z
UID:2189-1570852800-1570870800@thorranges.com
SUMMARY:Basic Concealed Carry
DESCRIPTION:Become familiar with Arkansas’ laws regarding concealed carry. Receive 1 year complimentary Individual Membership to the range.
URL:https://thorranges.com/event/basic-concealed-carry-5-2-2-2-2-2-2-2-2-2-2/
END:VEVENT
BEGIN:VEVENT
DTSTART;TZID=America/Chicago:20191009T040000
DTEND;TZID=America/Chicago:20191009T090000
DTSTAMP:20260420T011931
CREATED:20190823T200904Z
LAST-MODIFIED:20190823T200904Z
UID:2187-1570593600-1570611600@thorranges.com
SUMMARY:Basic Concealed Carry
DESCRIPTION:Become familiar with Arkansas’ laws regarding concealed carry. Receive 1 year complimentary Individual Membership to the range.
URL:https://thorranges.com/event/basic-concealed-carry-5-2-2-2-2-2-2-2-2-2/
END:VEVENT
BEGIN:VEVENT
DTSTART;TZID=America/Chicago:20191008T100000
DTEND;TZID=America/Chicago:20191008T113000
DTSTAMP:20260420T011931
CREATED:20190824T003345Z
LAST-MODIFIED:20190824T003345Z
UID:2288-1570528800-1570534200@thorranges.com
SUMMARY:Shooter's Grill
DESCRIPTION:We will be cooking THOR Angus burgers and hot dogs for The Shooter’s Lounge members. We will supply the meat\, we ask that you bring the buns.
URL:https://thorranges.com/event/shooters-grill-5-4/
END:VEVENT
BEGIN:VEVENT
DTSTART;TZID=America/Chicago:20191005T090000
DTEND;TZID=America/Chicago:20191005T110000
DTSTAMP:20260420T011931
CREATED:20190823T194947Z
LAST-MODIFIED:20190823T195031Z
UID:2153-1570266000-1570273200@thorranges.com
SUMMARY:Machine Gun Shoot
DESCRIPTION:Our weekly member machine gun shoot. We will post what firearm we will be using on our Facebook page https://www.facebook.com/thorranges/ \nWe have ammunition for purchase in our pro shop.
URL:https://thorranges.com/event/machine-gun-shoot-4-3-2/
END:VEVENT
BEGIN:VEVENT
DTSTART;TZID=America/Chicago:20191005T040000
DTEND;TZID=America/Chicago:20191005T090000
DTSTAMP:20260420T011931
CREATED:20190823T195825Z
LAST-MODIFIED:20190823T195825Z
UID:2185-1570248000-1570266000@thorranges.com
SUMMARY:Basic Concealed Carry
DESCRIPTION:Become familiar with Arkansas’ laws regarding concealed carry. Receive 1 year complimentary Individual Membership to the range.
URL:https://thorranges.com/event/basic-concealed-carry-5-2-2-2-2-2-2-2-2/
END:VEVENT
BEGIN:VEVENT
DTSTART;TZID=America/Chicago:20191002T040000
DTEND;TZID=America/Chicago:20191002T090000
DTSTAMP:20260420T011931
CREATED:20190823T195748Z
LAST-MODIFIED:20190823T195748Z
UID:2183-1569988800-1570006800@thorranges.com
SUMMARY:Basic Concealed Carry
DESCRIPTION:Become familiar with Arkansas’ laws regarding concealed carry. Receive 1 year complimentary Individual Membership to the range.
URL:https://thorranges.com/event/basic-concealed-carry-5-2-2-2-2-2-2-2/
END:VEVENT
BEGIN:VEVENT
DTSTART;TZID=America/Chicago:20191001T100000
DTEND;TZID=America/Chicago:20191001T113000
DTSTAMP:20260420T011931
CREATED:20190824T003309Z
LAST-MODIFIED:20190824T003309Z
UID:2285-1569924000-1569929400@thorranges.com
SUMMARY:Shooter's Grill
DESCRIPTION:We will be cooking THOR Angus burgers and hot dogs for The Shooter’s Lounge members. We will supply the meat\, we ask that you bring the buns.
URL:https://thorranges.com/event/shooters-grill-5-3/
END:VEVENT
BEGIN:VEVENT
DTSTART;TZID=America/Chicago:20190929T040000
DTEND;TZID=America/Chicago:20190929T120000
DTSTAMP:20260420T011931
CREATED:20190823T202008Z
LAST-MODIFIED:20190823T202008Z
UID:2203-1569729600-1569758400@thorranges.com
SUMMARY:Enhanced Concealed Carry
DESCRIPTION:Become familiar with Arkansas’ laws regarding the enhanced carry license. This includes where you may and may not carry. Be prepared for 6 hours of in class time and 2 hours on the range.
URL:https://thorranges.com/event/enhanced-concealed-carry-2-2-2/
END:VEVENT
BEGIN:VEVENT
DTSTART;TZID=America/Chicago:20190928T090000
DTEND;TZID=America/Chicago:20190928T110000
DTSTAMP:20260420T011931
CREATED:20190823T193853Z
LAST-MODIFIED:20190823T193853Z
UID:2142-1569661200-1569668400@thorranges.com
SUMMARY:Machine Gun Shoot
DESCRIPTION:Our weekly member machine gun shoot. We will post what firearm we will be using on our Facebook page https://www.facebook.com/thorranges/ \nWe have ammunition for purchase in our pro shop.
URL:https://thorranges.com/event/machine-gun-shoot-4-3/
END:VEVENT
BEGIN:VEVENT
DTSTART;TZID=America/Chicago:20190928T040000
DTEND;TZID=America/Chicago:20190928T090000
DTSTAMP:20260420T011931
CREATED:20190823T195157Z
LAST-MODIFIED:20190823T195157Z
UID:2161-1569643200-1569661200@thorranges.com
SUMMARY:Basic Concealed Carry (Range Membership Optional)
DESCRIPTION:Become familiar with Arkansas’ laws regarding concealed carry. This class will have a lower price for those not wanting a range membership. Please do not sign up online for this class if you are opting out of the membership. Please contact us with any questions.
URL:https://thorranges.com/event/basic-concealed-carry-range-membership-optional-2/
END:VEVENT
BEGIN:VEVENT
DTSTART;TZID=America/Chicago:20190925T040000
DTEND;TZID=America/Chicago:20190925T090000
DTSTAMP:20260420T011931
CREATED:20190823T195707Z
LAST-MODIFIED:20190823T195707Z
UID:2181-1569384000-1569402000@thorranges.com
SUMMARY:Basic Concealed Carry
DESCRIPTION:Become familiar with Arkansas’ laws regarding concealed carry. Receive 1 year complimentary Individual Membership to the range.
URL:https://thorranges.com/event/basic-concealed-carry-5-2-2-2-2-2-2/
END:VEVENT
BEGIN:VEVENT
DTSTART;TZID=America/Chicago:20190924T100000
DTEND;TZID=America/Chicago:20190924T113000
DTSTAMP:20260420T011931
CREATED:20190824T003253Z
LAST-MODIFIED:20190824T003253Z
UID:2277-1569319200-1569324600@thorranges.com
SUMMARY:Shooter's Grill
DESCRIPTION:We will be cooking THOR Angus burgers and hot dogs for The Shooter’s Lounge members. We will supply the meat\, we ask that you bring the buns.
URL:https://thorranges.com/event/shooters-grill-5-2/
END:VEVENT
BEGIN:VEVENT
DTSTART;TZID=America/Chicago:20190921T090000
DTEND;TZID=America/Chicago:20190921T110000
DTSTAMP:20260420T011931
CREATED:20190823T193827Z
LAST-MODIFIED:20190823T193827Z
UID:2141-1569056400-1569063600@thorranges.com
SUMMARY:Machine Gun Shoot
DESCRIPTION:Our weekly member machine gun shoot. We will post what firearm we will be using on our Facebook page https://www.facebook.com/thorranges/ \nWe have ammunition for purchase in our pro shop.
URL:https://thorranges.com/event/machine-gun-shoot-4-2/
END:VEVENT
BEGIN:VEVENT
DTSTART;TZID=America/Chicago:20190921T040000
DTEND;TZID=America/Chicago:20190921T090000
DTSTAMP:20260420T011931
CREATED:20190823T195636Z
LAST-MODIFIED:20190823T195636Z
UID:2179-1569038400-1569056400@thorranges.com
SUMMARY:Basic Concealed Carry
DESCRIPTION:Become familiar with Arkansas’ laws regarding concealed carry. Receive 1 year complimentary Individual Membership to the range.
URL:https://thorranges.com/event/basic-concealed-carry-5-2-2-2-2-2/
END:VEVENT
END:VCALENDAR