BEGIN:VCALENDAR
VERSION:2.0
PRODID:-//THOR | Ranges - ECPv6.6.4//NONSGML v1.0//EN
CALSCALE:GREGORIAN
METHOD:PUBLISH
X-WR-CALNAME:THOR | Ranges
X-ORIGINAL-URL:https://thorranges.com
X-WR-CALDESC:Events for THOR | Ranges
REFRESH-INTERVAL;VALUE=DURATION:PT1H
X-Robots-Tag:noindex
X-PUBLISHED-TTL:PT1H
BEGIN:VTIMEZONE
TZID:America/Chicago
BEGIN:DAYLIGHT
TZOFFSETFROM:-0600
TZOFFSETTO:-0500
TZNAME:CDT
DTSTART:20190310T080000
END:DAYLIGHT
BEGIN:STANDARD
TZOFFSETFROM:-0500
TZOFFSETTO:-0600
TZNAME:CST
DTSTART:20191103T070000
END:STANDARD
END:VTIMEZONE
BEGIN:VEVENT
DTSTART;TZID=America/Chicago:20191210T090000
DTEND;TZID=America/Chicago:20191210T103000
DTSTAMP:20260419T210019
CREATED:20190824T003731Z
LAST-MODIFIED:20190824T003731Z
UID:2297-1575968400-1575973800@thorranges.com
SUMMARY:Shooter's Grill
DESCRIPTION:We will be cooking THOR Angus burgers and hot dogs for The Shooter’s Lounge members. We will supply the meat\, we ask that you bring the buns.
URL:https://thorranges.com/event/shooters-grill-5-13/
END:VEVENT
BEGIN:VEVENT
DTSTART;TZID=America/Chicago:20191208T030000
DTEND;TZID=America/Chicago:20191208T110000
DTSTAMP:20260419T210019
CREATED:20190823T215845Z
LAST-MODIFIED:20190823T215845Z
UID:2260-1575774000-1575802800@thorranges.com
SUMMARY:Enhanced Concealed Carry
DESCRIPTION:Become familiar with Arkansas’ laws regarding the enhanced carry license. This includes where you may and may not carry. Be prepared for 6 hours of in class time and 2 hours on the range.
URL:https://thorranges.com/event/enhanced-concealed-carry-2-2-2-2-2-2-2-2/
END:VEVENT
BEGIN:VEVENT
DTSTART;TZID=America/Chicago:20191207T030000
DTEND;TZID=America/Chicago:20191207T080000
DTSTAMP:20260419T210019
CREATED:20190823T210936Z
LAST-MODIFIED:20190823T210936Z
UID:2240-1575687600-1575705600@thorranges.com
SUMMARY:Basic Concealed Carry
DESCRIPTION:Become familiar with Arkansas’ laws regarding concealed carry. Receive 1 year complimentary Individual Membership to the range.
URL:https://thorranges.com/event/basic-concealed-carry-5-2-2-2-2-2-2-2-2-2-2-2-2-2-2-4-5-3/
END:VEVENT
BEGIN:VEVENT
DTSTART;TZID=America/Chicago:20191204T030000
DTEND;TZID=America/Chicago:20191204T080000
DTSTAMP:20260419T210019
CREATED:20190823T210916Z
LAST-MODIFIED:20190823T211018Z
UID:2239-1575428400-1575446400@thorranges.com
SUMMARY:Basic Concealed Carry
DESCRIPTION:Become familiar with Arkansas’ laws regarding concealed carry. Receive 1 year complimentary Individual Membership to the range.
URL:https://thorranges.com/event/basic-concealed-carry-5-2-2-2-2-2-2-2-2-2-2-2-2-2-2-4-5-2/
END:VEVENT
BEGIN:VEVENT
DTSTART;TZID=America/Chicago:20191203T090000
DTEND;TZID=America/Chicago:20191203T103000
DTSTAMP:20260419T210019
CREATED:20190824T003716Z
LAST-MODIFIED:20190824T003716Z
UID:2298-1575363600-1575369000@thorranges.com
SUMMARY:Shooter's Grill
DESCRIPTION:We will be cooking THOR Angus burgers and hot dogs for The Shooter’s Lounge members. We will supply the meat\, we ask that you bring the buns.
URL:https://thorranges.com/event/shooters-grill-5-12/
END:VEVENT
BEGIN:VEVENT
DTSTART;TZID=America/Chicago:20191130T030000
DTEND;TZID=America/Chicago:20191130T080000
DTSTAMP:20260419T210019
CREATED:20190823T203421Z
LAST-MODIFIED:20190823T203421Z
UID:2228-1575082800-1575100800@thorranges.com
SUMMARY:Basic Concealed Carry
DESCRIPTION:Become familiar with Arkansas’ laws regarding concealed carry. Receive 1 year complimentary Individual Membership to the range.
URL:https://thorranges.com/event/basic-concealed-carry-5-2-2-2-2-2-2-2-2-2-2-2-2-2-2-4-5/
END:VEVENT
BEGIN:VEVENT
DTSTART;TZID=America/Chicago:20191128T020000
DTEND;TZID=America/Chicago:20191128T110000
DTSTAMP:20260419T210019
CREATED:20190823T203657Z
LAST-MODIFIED:20190823T203657Z
UID:2237-1574906400-1574938800@thorranges.com
SUMMARY:Thanksgiving
DESCRIPTION:We will be open normal operating hours 8a-5p
URL:https://thorranges.com/event/thanksgiving/
END:VEVENT
BEGIN:VEVENT
DTSTART;TZID=America/Chicago:20191127T030000
DTEND;TZID=America/Chicago:20191127T080000
DTSTAMP:20260419T210019
CREATED:20190823T203358Z
LAST-MODIFIED:20190823T203358Z
UID:2227-1574823600-1574841600@thorranges.com
SUMMARY:Basic Concealed Carry
DESCRIPTION:Become familiar with Arkansas’ laws regarding concealed carry. Receive 1 year complimentary Individual Membership to the range.
URL:https://thorranges.com/event/basic-concealed-carry-5-2-2-2-2-2-2-2-2-2-2-2-2-2-2-4-4/
END:VEVENT
BEGIN:VEVENT
DTSTART;TZID=America/Chicago:20191126T090000
DTEND;TZID=America/Chicago:20191126T103000
DTSTAMP:20260419T210019
CREATED:20190824T003615Z
LAST-MODIFIED:20190824T003615Z
UID:2278-1574758800-1574764200@thorranges.com
SUMMARY:Shooter's Grill
DESCRIPTION:We will be cooking THOR Angus burgers and hot dogs for The Shooter’s Lounge members. We will supply the meat\, we ask that you bring the buns.
URL:https://thorranges.com/event/shooters-grill-5-11/
END:VEVENT
BEGIN:VEVENT
DTSTART;TZID=America/Chicago:20191125T020000
DTEND;TZID=America/Chicago:20191125T110000
DTSTAMP:20260419T210019
CREATED:20190823T203043Z
LAST-MODIFIED:20190823T203043Z
UID:2215-1574647200-1574679600@thorranges.com
SUMMARY:Weekly Special
DESCRIPTION:THOR Annual Black Friday Special \nAll new memberships or renewals will receive a range kit valued at $50. \nKit includes: \nEar protection (Ear Plugs and Ear Muffs) \nEye protection \n  \n 
URL:https://thorranges.com/event/weekly-special-2/
END:VEVENT
BEGIN:VEVENT
DTSTART;TZID=America/Chicago:20191124T030000
DTEND;TZID=America/Chicago:20191124T110000
DTSTAMP:20260419T210019
CREATED:20190823T202744Z
LAST-MODIFIED:20190823T202744Z
UID:2211-1574564400-1574593200@thorranges.com
SUMMARY:Enhanced Concealed Carry
DESCRIPTION:Become familiar with Arkansas’ laws regarding the enhanced carry license. This includes where you may and may not carry. Be prepared for 6 hours of in class time and 2 hours on the range.
URL:https://thorranges.com/event/enhanced-concealed-carry-2-2-2-2-2-2-2/
END:VEVENT
BEGIN:VEVENT
DTSTART;TZID=America/Chicago:20191123T030000
DTEND;TZID=America/Chicago:20191123T080000
DTSTAMP:20260419T210019
CREATED:20190823T195241Z
LAST-MODIFIED:20190823T195241Z
UID:2163-1574478000-1574496000@thorranges.com
SUMMARY:Basic Concealed Carry (Range Membership Optional)
DESCRIPTION:Become familiar with Arkansas’ laws regarding concealed carry. This class will have a lower price for those not wanting a range membership. Please do not sign up online for this class if you are opting out of the membership. Please contact us with any questions.
URL:https://thorranges.com/event/basic-concealed-carry-range-membership-optional-4/
END:VEVENT
BEGIN:VEVENT
DTSTART;TZID=America/Chicago:20191120T030000
DTEND;TZID=America/Chicago:20191120T080000
DTSTAMP:20260419T210019
CREATED:20190823T203340Z
LAST-MODIFIED:20190823T203340Z
UID:2226-1574218800-1574236800@thorranges.com
SUMMARY:Basic Concealed Carry
DESCRIPTION:Become familiar with Arkansas’ laws regarding concealed carry. Receive 1 year complimentary Individual Membership to the range.
URL:https://thorranges.com/event/basic-concealed-carry-5-2-2-2-2-2-2-2-2-2-2-2-2-2-2-4-3/
END:VEVENT
BEGIN:VEVENT
DTSTART;TZID=America/Chicago:20191119T090000
DTEND;TZID=America/Chicago:20191119T103000
DTSTAMP:20260419T210019
CREATED:20190824T003553Z
LAST-MODIFIED:20190824T003553Z
UID:2279-1574154000-1574159400@thorranges.com
SUMMARY:Shooter's Grill
DESCRIPTION:We will be cooking THOR Angus burgers and hot dogs for The Shooter’s Lounge members. We will supply the meat\, we ask that you bring the buns.
URL:https://thorranges.com/event/shooters-grill-5-10/
END:VEVENT
BEGIN:VEVENT
DTSTART;TZID=America/Chicago:20191118T020000
DTEND;TZID=America/Chicago:20191118T110000
DTSTAMP:20260419T210019
CREATED:20190823T202953Z
LAST-MODIFIED:20190823T202953Z
UID:2213-1574042400-1574074800@thorranges.com
SUMMARY:Weekly Special
DESCRIPTION:THOR Annual Black Friday Special \nAll new memberships or renewals will receive a range kit valued at $50. \nKit includes: \nEar protection (Ear Plugs and Ear Muffs) \nEye protection \n  \n 
URL:https://thorranges.com/event/weekly-special/
END:VEVENT
BEGIN:VEVENT
DTSTART;TZID=America/Chicago:20191116T030000
DTEND;TZID=America/Chicago:20191116T080000
DTSTAMP:20260419T210019
CREATED:20190823T203328Z
LAST-MODIFIED:20190823T203328Z
UID:2225-1573873200-1573891200@thorranges.com
SUMMARY:Basic Concealed Carry
DESCRIPTION:Become familiar with Arkansas’ laws regarding concealed carry. Receive 1 year complimentary Individual Membership to the range.
URL:https://thorranges.com/event/basic-concealed-carry-5-2-2-2-2-2-2-2-2-2-2-2-2-2-2-4-2/
END:VEVENT
BEGIN:VEVENT
DTSTART;TZID=America/Chicago:20191113T030000
DTEND;TZID=America/Chicago:20191113T080000
DTSTAMP:20260419T210019
CREATED:20190823T203252Z
LAST-MODIFIED:20190823T203252Z
UID:2220-1573614000-1573632000@thorranges.com
SUMMARY:Basic Concealed Carry
DESCRIPTION:Become familiar with Arkansas’ laws regarding concealed carry. Receive 1 year complimentary Individual Membership to the range.
URL:https://thorranges.com/event/basic-concealed-carry-5-2-2-2-2-2-2-2-2-2-2-2-2-2-2-5/
END:VEVENT
BEGIN:VEVENT
DTSTART;TZID=America/Chicago:20191112T090000
DTEND;TZID=America/Chicago:20191112T103000
DTSTAMP:20260419T210019
CREATED:20190824T003526Z
LAST-MODIFIED:20190824T003526Z
UID:2280-1573549200-1573554600@thorranges.com
SUMMARY:Shooter's Grill
DESCRIPTION:We will be cooking THOR Angus burgers and hot dogs for The Shooter’s Lounge members. We will supply the meat\, we ask that you bring the buns.
URL:https://thorranges.com/event/shooters-grill-5-9/
END:VEVENT
BEGIN:VEVENT
DTSTART;TZID=America/Chicago:20191110T030000
DTEND;TZID=America/Chicago:20191110T110000
DTSTAMP:20260419T210019
CREATED:20190823T202715Z
LAST-MODIFIED:20190823T202715Z
UID:2209-1573354800-1573383600@thorranges.com
SUMMARY:Enhanced Concealed Carry
DESCRIPTION:Become familiar with Arkansas’ laws regarding the enhanced carry license. This includes where you may and may not carry. Be prepared for 6 hours of in class time and 2 hours on the range.
URL:https://thorranges.com/event/enhanced-concealed-carry-2-2-2-2-2-2/
END:VEVENT
BEGIN:VEVENT
DTSTART;TZID=America/Chicago:20191109T030000
DTEND;TZID=America/Chicago:20191109T080000
DTSTAMP:20260419T210019
CREATED:20190823T203234Z
LAST-MODIFIED:20190823T203234Z
UID:2219-1573268400-1573286400@thorranges.com
SUMMARY:Basic Concealed Carry
DESCRIPTION:Become familiar with Arkansas’ laws regarding concealed carry. Receive 1 year complimentary Individual Membership to the range.
URL:https://thorranges.com/event/basic-concealed-carry-5-2-2-2-2-2-2-2-2-2-2-2-2-2-2-4/
END:VEVENT
BEGIN:VEVENT
DTSTART;TZID=America/Chicago:20191106T030000
DTEND;TZID=America/Chicago:20191106T080000
DTSTAMP:20260419T210019
CREATED:20190823T203153Z
LAST-MODIFIED:20190823T203153Z
UID:2218-1573009200-1573027200@thorranges.com
SUMMARY:Basic Concealed Carry
DESCRIPTION:Become familiar with Arkansas’ laws regarding concealed carry. Receive 1 year complimentary Individual Membership to the range.
URL:https://thorranges.com/event/basic-concealed-carry-5-2-2-2-2-2-2-2-2-2-2-2-2-2-2-3/
END:VEVENT
BEGIN:VEVENT
DTSTART;TZID=America/Chicago:20191105T090000
DTEND;TZID=America/Chicago:20191105T103000
DTSTAMP:20260419T210019
CREATED:20190824T003505Z
LAST-MODIFIED:20190824T003505Z
UID:2281-1572944400-1572949800@thorranges.com
SUMMARY:Shooter's Grill
DESCRIPTION:We will be cooking THOR Angus burgers and hot dogs for The Shooter’s Lounge members. We will supply the meat\, we ask that you bring the buns.
URL:https://thorranges.com/event/shooters-grill-5-8/
END:VEVENT
BEGIN:VEVENT
DTSTART;TZID=America/Chicago:20191102T040000
DTEND;TZID=America/Chicago:20191102T090000
DTSTAMP:20260419T210019
CREATED:20190823T203132Z
LAST-MODIFIED:20190823T203132Z
UID:2217-1572667200-1572685200@thorranges.com
SUMMARY:Basic Concealed Carry
DESCRIPTION:Become familiar with Arkansas’ laws regarding concealed carry. Receive 1 year complimentary Individual Membership to the range.
URL:https://thorranges.com/event/basic-concealed-carry-5-2-2-2-2-2-2-2-2-2-2-2-2-2-2-2/
END:VEVENT
BEGIN:VEVENT
DTSTART;TZID=America/Chicago:20191030T040000
DTEND;TZID=America/Chicago:20191030T090000
DTSTAMP:20260419T210019
CREATED:20190823T201231Z
LAST-MODIFIED:20190823T201231Z
UID:2197-1572408000-1572426000@thorranges.com
SUMMARY:Basic Concealed Carry
DESCRIPTION:Become familiar with Arkansas’ laws regarding concealed carry. Receive 1 year complimentary Individual Membership to the range.
URL:https://thorranges.com/event/basic-concealed-carry-5-2-2-2-2-2-2-2-2-2-2-2-2-2-2/
END:VEVENT
BEGIN:VEVENT
DTSTART;TZID=America/Chicago:20191029T100000
DTEND;TZID=America/Chicago:20191029T113000
DTSTAMP:20260419T210019
CREATED:20190824T003440Z
LAST-MODIFIED:20190824T003440Z
UID:2282-1572343200-1572348600@thorranges.com
SUMMARY:Shooter's Grill
DESCRIPTION:We will be cooking THOR Angus burgers and hot dogs for The Shooter’s Lounge members. We will supply the meat\, we ask that you bring the buns.
URL:https://thorranges.com/event/shooters-grill-5-7/
END:VEVENT
BEGIN:VEVENT
DTSTART;TZID=America/Chicago:20191027T040000
DTEND;TZID=America/Chicago:20191027T120000
DTSTAMP:20260419T210019
CREATED:20190823T202111Z
LAST-MODIFIED:20190823T202111Z
UID:2207-1572148800-1572177600@thorranges.com
SUMMARY:Enhanced Concealed Carry
DESCRIPTION:Become familiar with Arkansas’ laws regarding the enhanced carry license. This includes where you may and may not carry. Be prepared for 6 hours of in class time and 2 hours on the range.
URL:https://thorranges.com/event/enhanced-concealed-carry-2-2-2-2-2/
END:VEVENT
BEGIN:VEVENT
DTSTART;TZID=America/Chicago:20191026T090000
DTEND;TZID=America/Chicago:20191026T110000
DTSTAMP:20260419T210019
CREATED:20190823T195113Z
LAST-MODIFIED:20190823T195113Z
UID:2156-1572080400-1572087600@thorranges.com
SUMMARY:Machine Gun Shoot
DESCRIPTION:Our weekly member machine gun shoot. We will post what firearm we will be using on our Facebook page https://www.facebook.com/thorranges/ \nWe have ammunition for purchase in our pro shop.
URL:https://thorranges.com/event/machine-gun-shoot-4-3-5/
END:VEVENT
BEGIN:VEVENT
DTSTART;TZID=America/Chicago:20191026T040000
DTEND;TZID=America/Chicago:20191026T090000
DTSTAMP:20260419T210019
CREATED:20190823T195220Z
LAST-MODIFIED:20190823T195220Z
UID:2162-1572062400-1572080400@thorranges.com
SUMMARY:Basic Concealed Carry (Range Membership Optional)
DESCRIPTION:Become familiar with Arkansas’ laws regarding concealed carry. This class will have a lower price for those not wanting a range membership. Please do not sign up online for this class if you are opting out of the membership. Please contact us with any questions.
URL:https://thorranges.com/event/basic-concealed-carry-range-membership-optional-3/
END:VEVENT
BEGIN:VEVENT
DTSTART;TZID=America/Chicago:20191023T040000
DTEND;TZID=America/Chicago:20191023T090000
DTSTAMP:20260419T210019
CREATED:20190823T201056Z
LAST-MODIFIED:20190823T201056Z
UID:2195-1571803200-1571821200@thorranges.com
SUMMARY:Basic Concealed Carry
DESCRIPTION:Become familiar with Arkansas’ laws regarding concealed carry. Receive 1 year complimentary Individual Membership to the range.
URL:https://thorranges.com/event/basic-concealed-carry-5-2-2-2-2-2-2-2-2-2-2-2-2-2/
END:VEVENT
BEGIN:VEVENT
DTSTART;TZID=America/Chicago:20191022T100000
DTEND;TZID=America/Chicago:20191022T113000
DTSTAMP:20260419T210019
CREATED:20190824T003424Z
LAST-MODIFIED:20190824T003424Z
UID:2283-1571738400-1571743800@thorranges.com
SUMMARY:Shooter's Grill
DESCRIPTION:We will be cooking THOR Angus burgers and hot dogs for The Shooter’s Lounge members. We will supply the meat\, we ask that you bring the buns.
URL:https://thorranges.com/event/shooters-grill-5-6/
END:VEVENT
END:VCALENDAR